BEGIN:VCALENDAR
VERSION:2.0
PRODID:-//Riverside, the Farnsley-Moremen Landing - ECPv6.15.20//NONSGML v1.0//EN
CALSCALE:GREGORIAN
METHOD:PUBLISH
X-ORIGINAL-URL:https://riverside-landing.org
X-WR-CALDESC:Events for Riverside, the Farnsley-Moremen Landing
REFRESH-INTERVAL;VALUE=DURATION:PT1H
X-Robots-Tag:noindex
X-PUBLISHED-TTL:PT1H
BEGIN:VTIMEZONE
TZID:America/New_York
BEGIN:DAYLIGHT
TZOFFSETFROM:-0500
TZOFFSETTO:-0400
TZNAME:EDT
DTSTART:20230312T070000
END:DAYLIGHT
BEGIN:STANDARD
TZOFFSETFROM:-0400
TZOFFSETTO:-0500
TZNAME:EST
DTSTART:20231105T060000
END:STANDARD
BEGIN:DAYLIGHT
TZOFFSETFROM:-0500
TZOFFSETTO:-0400
TZNAME:EDT
DTSTART:20240310T070000
END:DAYLIGHT
BEGIN:STANDARD
TZOFFSETFROM:-0400
TZOFFSETTO:-0500
TZNAME:EST
DTSTART:20241103T060000
END:STANDARD
BEGIN:DAYLIGHT
TZOFFSETFROM:-0500
TZOFFSETTO:-0400
TZNAME:EDT
DTSTART:20250309T070000
END:DAYLIGHT
BEGIN:STANDARD
TZOFFSETFROM:-0400
TZOFFSETTO:-0500
TZNAME:EST
DTSTART:20251102T060000
END:STANDARD
END:VTIMEZONE
BEGIN:VEVENT
DTSTART;TZID=America/New_York:20241006T133000
DTEND;TZID=America/New_York:20241006T150000
DTSTAMP:20260423T090024
CREATED:20240624T181831Z
LAST-MODIFIED:20240624T181831Z
UID:5521-1728221400-1728226800@riverside-landing.org
SUMMARY:Sweet Sounds On Sunday: Storefront Congregation
DESCRIPTION:Welcome to Sweet Sounds On Sunday: Storefront Congregation! Join us for a relaxing afternoon of live music by the talented band Storefront Congregation. Don’t miss out on this chance to unwind and enjoy one of the best acoustic acts in the area featuring great originals and many of your favorite covers. They will sound fabulous in the intimate setting of Riverside’s historic chapel. See you there! \nSeating is limited so book your seat today. Suggested donation: $10/Person. \nhttps://www.eventbrite.com/e/sweet-sounds-on-sunday-storefront-congregation-tickets-929863846797
URL:https://riverside-landing.org/event/sweet-sounds-on-sunday-storefront-congregation/
LOCATION:Riverside\, the Farnsley-Moremen Landing\, 7410 Moorman Road\, Louisville\, KY\, 40272\, United States
CATEGORIES:musical performance
END:VEVENT
BEGIN:VEVENT
DTSTART;TZID=America/New_York:20241019T100000
DTEND;TZID=America/New_York:20241019T150000
DTSTAMP:20260423T090024
CREATED:20240904T170253Z
LAST-MODIFIED:20240904T170253Z
UID:5554-1729332000-1729350000@riverside-landing.org
SUMMARY:Archaeology Day
DESCRIPTION:Don’t miss this opportunity to learn about archaeology in action at Riverside! Learn about the process of archaeology–and what we have learned through the research done at Riverside over the years. Family friendly activities include: hands-on activities\, demonstrations\, behind-the-scenes walking tours\, talks\, and more! Food vending by: Valley Dairy Freeze. Watch this space for the schedule and more details! Info: 502.935.6809.
URL:https://riverside-landing.org/event/archaeology-day/
LOCATION:Riverside\, the Farnsley-Moremen Landing\, 7410 Moorman Road\, Louisville\, KY\, 40272\, United States
CATEGORIES:Archaeology,Community Event,History,Kid Friendly
END:VEVENT
BEGIN:VEVENT
DTSTART;TZID=America/New_York:20241023T173000
DTEND;TZID=America/New_York:20241023T193000
DTSTAMP:20260423T090024
CREATED:20240904T170841Z
LAST-MODIFIED:20240904T170841Z
UID:5558-1729704600-1729711800@riverside-landing.org
SUMMARY:Halloween Trick or Treat Event
DESCRIPTION:The Dixie Area Business Association (DABA) presents a Walk-Thru Halloween Trick or Treat event on Wednesday\, October 23 from 5:30-7:30 PM at Riverside! Dress up and get candy from businesses in our community. Families can park and walk through to get their treats — and maybe a few tricks\, too!
URL:https://riverside-landing.org/event/halloween-trick-or-treat-event-7/
LOCATION:Riverside\, the Farnsley-Moremen Landing\, 7410 Moorman Road\, Louisville\, KY\, 40272\, United States
CATEGORIES:Community Event,Kid Friendly
END:VEVENT
END:VCALENDAR