BEGIN:VCALENDAR
VERSION:2.0
PRODID:-//Riverside, the Farnsley-Moremen Landing - ECPv6.15.20//NONSGML v1.0//EN
CALSCALE:GREGORIAN
METHOD:PUBLISH
X-WR-CALNAME:Riverside, the Farnsley-Moremen Landing
X-ORIGINAL-URL:https://riverside-landing.org
X-WR-CALDESC:Events for Riverside, the Farnsley-Moremen Landing
REFRESH-INTERVAL;VALUE=DURATION:PT1H
X-Robots-Tag:noindex
X-PUBLISHED-TTL:PT1H
BEGIN:VTIMEZONE
TZID:America/New_York
BEGIN:DAYLIGHT
TZOFFSETFROM:-0500
TZOFFSETTO:-0400
TZNAME:EDT
DTSTART:20230312T070000
END:DAYLIGHT
BEGIN:STANDARD
TZOFFSETFROM:-0400
TZOFFSETTO:-0500
TZNAME:EST
DTSTART:20231105T060000
END:STANDARD
BEGIN:DAYLIGHT
TZOFFSETFROM:-0500
TZOFFSETTO:-0400
TZNAME:EDT
DTSTART:20240310T070000
END:DAYLIGHT
BEGIN:STANDARD
TZOFFSETFROM:-0400
TZOFFSETTO:-0500
TZNAME:EST
DTSTART:20241103T060000
END:STANDARD
BEGIN:DAYLIGHT
TZOFFSETFROM:-0500
TZOFFSETTO:-0400
TZNAME:EDT
DTSTART:20250309T070000
END:DAYLIGHT
BEGIN:STANDARD
TZOFFSETFROM:-0400
TZOFFSETTO:-0500
TZNAME:EST
DTSTART:20251102T060000
END:STANDARD
END:VTIMEZONE
BEGIN:VEVENT
DTSTART;VALUE=DATE:20240901
DTEND;VALUE=DATE:20240902
DTSTAMP:20260423T174620
CREATED:20240624T172656Z
LAST-MODIFIED:20240624T172656Z
UID:5498-1725148800-1725235199@riverside-landing.org
SUMMARY:Holiday Break for Riverside Farmers' Market - Join Us Next Sunday!
DESCRIPTION:
URL:https://riverside-landing.org/event/holiday-break-for-riverside-farmers-market-join-us-next-sunday/
END:VEVENT
BEGIN:VEVENT
DTSTART;TZID=America/New_York:20240908T100000
DTEND;TZID=America/New_York:20240908T130000
DTSTAMP:20260423T174620
CREATED:20240624T173045Z
LAST-MODIFIED:20240624T173045Z
UID:5501-1725789600-1725800400@riverside-landing.org
SUMMARY:Riverside Farmers' Market
DESCRIPTION:Come on out to our weekly Riverside Farmers’ Market for fresh produce\, eggs\, honey and locally-raised pork as well as homemade preserves\, salsas\, candies\, spice mixes\, soaps\, candles and a few craft items! Don’t miss the opportunity to get fresh\, healthy food items and support local business people at the same time.
URL:https://riverside-landing.org/event/riverside-farmers-market-41/
LOCATION:Riverside\, the Farnsley-Moremen Landing\, 7410 Moorman Road\, Louisville\, KY\, 40272\, United States
CATEGORIES:Farmers Market
END:VEVENT
BEGIN:VEVENT
DTSTART;TZID=America/New_York:20240908T133000
DTEND;TZID=America/New_York:20240908T150000
DTSTAMP:20260423T174620
CREATED:20240624T181028Z
LAST-MODIFIED:20240624T181028Z
UID:5517-1725802200-1725807600@riverside-landing.org
SUMMARY:Sweet Sounds On Sunday: Kentucky Blue
DESCRIPTION:Come join us for a relaxing Sunday afternoon filled with good Bluegrass and Gospel performed by Kentucky Blue. This event will take place on Sun\, Sep 08\, 2024 at 1:00 PM at Riverside\, the Farnsley-Moremen Landing’s historic chapel. Don’t miss out on this opportunity to unwind and enjoy the sweet sounds of Kentucky Blue. See you there! \nSeating is limited so reserve your spot today. Suggested donation: $10/person \nReserve your spots through EventBrite: https://www.eventbrite.com/e/sweet-sounds-on-sunday-kentucky-blue-tickets-929856444657
URL:https://riverside-landing.org/event/sweet-sounds-on-sunday-kentucky-blue/
LOCATION:Riverside\, the Farnsley-Moremen Landing\, 7410 Moorman Road\, Louisville\, KY\, 40272\, United States
CATEGORIES:musical performance
END:VEVENT
BEGIN:VEVENT
DTSTART;TZID=America/New_York:20240915T100000
DTEND;TZID=America/New_York:20240915T130000
DTSTAMP:20260423T174620
CREATED:20240624T173557Z
LAST-MODIFIED:20240624T173557Z
UID:5504-1726394400-1726405200@riverside-landing.org
SUMMARY:Riverside Farmers' Market
DESCRIPTION:Come on out to our weekly Riverside Farmers’ Market for fresh produce\, eggs\, honey and locally-raised pork as well as homemade preserves\, salsas\, candies\, spice mixes\, soaps\, candles and a few craft items! Don’t miss the opportunity to get fresh\, healthy food items and support local business people at the same time.
URL:https://riverside-landing.org/event/riverside-farmers-market-42/
LOCATION:Riverside\, the Farnsley-Moremen Landing\, 7410 Moorman Road\, Louisville\, KY\, 40272\, United States
CATEGORIES:Farmers Market
END:VEVENT
BEGIN:VEVENT
DTSTART;TZID=America/New_York:20240922T100000
DTEND;TZID=America/New_York:20240922T130000
DTSTAMP:20260423T174620
CREATED:20240624T173846Z
LAST-MODIFIED:20240624T173846Z
UID:5507-1726999200-1727010000@riverside-landing.org
SUMMARY:Riverside Farmers' Market
DESCRIPTION:Come on out to our weekly Riverside Farmers’ Market for fresh produce\, eggs\, honey and locally-raised pork as well as homemade preserves\, salsas\, candies\, spice mixes\, soaps\, candles and a few craft items! Don’t miss the opportunity to get fresh\, healthy food items and support local business people at the same time.
URL:https://riverside-landing.org/event/riverside-farmers-market-43/
LOCATION:Riverside\, the Farnsley-Moremen Landing\, 7410 Moorman Road\, Louisville\, KY\, 40272\, United States
CATEGORIES:Farmers Market
END:VEVENT
BEGIN:VEVENT
DTSTART;TZID=America/New_York:20240929T100000
DTEND;TZID=America/New_York:20240929T130000
DTSTAMP:20260423T174620
CREATED:20240624T174310Z
LAST-MODIFIED:20240624T174310Z
UID:5510-1727604000-1727614800@riverside-landing.org
SUMMARY:Final Riverside Farmers' Market of the Season
DESCRIPTION:Don’t miss your last chance this season to visit Riverside Farmers’ Market for fresh produce\, eggs\, honey and locally-raised pork as well as homemade preserves\, salsas\, candies\, spice mixes\, soaps\, candles and a few craft items! Get fresh\, healthy food items and support local business people at the same time.
URL:https://riverside-landing.org/event/final-riverside-farmers-market-of-the-season/
LOCATION:Riverside\, the Farnsley-Moremen Landing\, 7410 Moorman Road\, Louisville\, KY\, 40272\, United States
CATEGORIES:Farmers Market
END:VEVENT
END:VCALENDAR