BEGIN:VCALENDAR
VERSION:2.0
PRODID:-//Riverside, the Farnsley-Moremen Landing - ECPv6.15.20//NONSGML v1.0//EN
CALSCALE:GREGORIAN
METHOD:PUBLISH
X-WR-CALNAME:Riverside, the Farnsley-Moremen Landing
X-ORIGINAL-URL:https://riverside-landing.org
X-WR-CALDESC:Events for Riverside, the Farnsley-Moremen Landing
REFRESH-INTERVAL;VALUE=DURATION:PT1H
X-Robots-Tag:noindex
X-PUBLISHED-TTL:PT1H
BEGIN:VTIMEZONE
TZID:America/New_York
BEGIN:DAYLIGHT
TZOFFSETFROM:-0500
TZOFFSETTO:-0400
TZNAME:EDT
DTSTART:20140309T070000
END:DAYLIGHT
BEGIN:STANDARD
TZOFFSETFROM:-0400
TZOFFSETTO:-0500
TZNAME:EST
DTSTART:20141102T060000
END:STANDARD
BEGIN:DAYLIGHT
TZOFFSETFROM:-0500
TZOFFSETTO:-0400
TZNAME:EDT
DTSTART:20150308T070000
END:DAYLIGHT
BEGIN:STANDARD
TZOFFSETFROM:-0400
TZOFFSETTO:-0500
TZNAME:EST
DTSTART:20151101T060000
END:STANDARD
BEGIN:DAYLIGHT
TZOFFSETFROM:-0500
TZOFFSETTO:-0400
TZNAME:EDT
DTSTART:20160313T070000
END:DAYLIGHT
BEGIN:STANDARD
TZOFFSETFROM:-0400
TZOFFSETTO:-0500
TZNAME:EST
DTSTART:20161106T060000
END:STANDARD
END:VTIMEZONE
BEGIN:VEVENT
DTSTART;TZID=America/New_York:20150919T100000
DTEND;TZID=America/New_York:20150920T170000
DTSTAMP:20260422T224402
CREATED:20150711T011743Z
LAST-MODIFIED:20150711T011743Z
UID:620-1442656800-1442768400@riverside-landing.org
SUMMARY:200 Years On the Ohio: A Living History Timeline Event
DESCRIPTION:From Early Settlement into World War I Era \n~ Period Craft Demonstrations ~ Period Fashion Shows ~ Tools ~ Pastimes ~ Cooking ~ Special Presenters: Meet “Mr. Lincoln” ~ Tours of the Farnsley-Moremen House (1/2 price) ~ Featuring: an 1860s-style baseball game between the Cincinnati Red Stockings and the Cincinnati Buckeyes beginning at 1 PM on Sunday\, September 20. \nHeld in partnership with the Falls Landing Foundation\, Inc.
URL:https://riverside-landing.org/event/200-years-on-the-ohio-a-living-history-timeline-event/
LOCATION:Riverside\, the Farnsley-Moremen Landing\, 7410 Moorman Road\, Louisville\, KY\, 40272\, United States
END:VEVENT
BEGIN:VEVENT
DTSTART;TZID=America/New_York:20150816T143000
DTEND;TZID=America/New_York:20150816T170000
DTSTAMP:20260422T224402
CREATED:20150711T011644Z
LAST-MODIFIED:20150711T011644Z
UID:617-1439735400-1439744400@riverside-landing.org
SUMMARY:Cooking with Herbs Workshop
DESCRIPTION:From your garden to your table…\nYou will learn: \n\nhow to harvest fresh herbs\nhow to make and take home a bouquet garni\nwhen to add herbs to your cooking\nwhich herbs are good with what foods\nhow to mix and match flavors\nsome simple and tasty recipes\nhow to preserve herbs for later use\n\nSpace is limited so reservations are required. Call 502/935-6809 or email: info@riverside-landing.org
URL:https://riverside-landing.org/event/cooking-with-herbs-workshop/
LOCATION:Riverside Visitors Center
END:VEVENT
BEGIN:VEVENT
DTSTART;TZID=America/New_York:20150808T110000
DTEND;TZID=America/New_York:20150808T120000
DTSTAMP:20260422T224402
CREATED:20150717T232533Z
LAST-MODIFIED:20150717T232533Z
UID:628-1439031600-1439035200@riverside-landing.org
SUMMARY:Creating "Way Stations" for Monarch Butterflies
DESCRIPTION:The Riverside Garden Club invites you to…\nJoin us for a presentation by Joanna Kirby\, President of the Garden Club of Kentucky\, on “Creating Way Stations for Monarch Butterflies” at 11:00 am on Saturday\, August 8th in the Visitors Center. Ms. Kirby has devoted countless hours to efforts to encourage Kentucky gardeners to create “way stations” for monarch butterflies across the Commonwealth. You will hear how you (or your school group or church group) can build and maintain habitats that support the monarch butterfly. \nThis event is FREE and open to all! We look forward to seeing you here. Contact us at 502/935-6809 with questions.
URL:https://riverside-landing.org/event/creating-way-stations-for-monarch-butterflies/
LOCATION:Riverside Visitors Center
END:VEVENT
BEGIN:VEVENT
DTSTART;TZID=America/New_York:20150712T130000
DTEND;TZID=America/New_York:20150712T170000
DTSTAMP:20260422T224402
CREATED:20150616T045443Z
LAST-MODIFIED:20150616T045443Z
UID:594-1436706000-1436720400@riverside-landing.org
SUMMARY:Old-Fashioned Ice Cream Social
DESCRIPTION:Come out for a relaxing family-friendly day on the banks of the Ohio River on Sunday\, July 12\, from 1 to 5 pm. You can enjoy music by “The Rigby’s” (Beatles Tribute band)\, Magic by Dave Cotrell\, an Ice Cream Eating Contest\, a miniature train ride\, pony rides\, a farm animal petting zoo\, an archaeology dig and tours of the historic Farnsley-Moremen House (1/2 price)–all other activities are FREE with the exception of food and ice cream purchases. \nFood vendors: Shack in the Back Barbeque and Ehrler’s Ice Cream. \nSpecial bonus: The Friends of the Southwest Library will be holding a book sale in the Riverside Visitors Center. Find great books at bargain prices! \n  \n 
URL:https://riverside-landing.org/event/old-fashioned-ice-cream-social/
END:VEVENT
BEGIN:VEVENT
DTSTART;TZID=America/New_York:20150620T100000
DTEND;TZID=America/New_York:20150620T160000
DTSTAMP:20260422T224402
CREATED:20150613T202009Z
LAST-MODIFIED:20150619T180111Z
UID:592-1434794400-1434816000@riverside-landing.org
SUMMARY:Family Farm & Forage Day--Cancellation due to Inclement Weather
DESCRIPTION:Hello everyone\, \nIt’s with no small amount of regret that we must announce the cancellation of Saturday’s Family Farm and Forage Day at Riverside\, the Farnsley-Moremen Landing. \nIf you live in the Ohio Valley\, you know to expect summertime showers and thunderstorms as almost a daily occurrence. Saturday’s event\, thanks to the remnants of Tropical Storm Bill\, is a different story. \nThe forecasters are in agreement that what we’ll have on Saturday is an all-day rain. As we’ve invited presenters from across the state of Kentucky to participate in this\, our inaugural event\, it’s a lot to expect them to come and spend their time in those conditions. \nThe good news is we’ve already set a date for next year. Family Farm and Forage Day will return on Saturday\, June 18\, 2016. With an extra year to plan\, our goal is to make it bigger and better! \nWe apologize for the inconvenience. \nOur next event is the popular Ice Cream Social on July 12 – see you there! \nYour Friends at Riverside\, the Farnsley-Moremen Landing
URL:https://riverside-landing.org/event/family-farm-forage-day/
LOCATION:Riverside\, the Farnsley-Moremen Landing\, 7410 Moorman Road\, Louisville\, KY\, 40272\, United States
END:VEVENT
END:VCALENDAR