BEGIN:VCALENDAR
VERSION:2.0
PRODID:-//Riverside, the Farnsley-Moremen Landing - ECPv6.15.20//NONSGML v1.0//EN
CALSCALE:GREGORIAN
METHOD:PUBLISH
X-WR-CALNAME:Riverside, the Farnsley-Moremen Landing
X-ORIGINAL-URL:https://riverside-landing.org
X-WR-CALDESC:Events for Riverside, the Farnsley-Moremen Landing
REFRESH-INTERVAL;VALUE=DURATION:PT1H
X-Robots-Tag:noindex
X-PUBLISHED-TTL:PT1H
BEGIN:VTIMEZONE
TZID:America/New_York
BEGIN:DAYLIGHT
TZOFFSETFROM:-0500
TZOFFSETTO:-0400
TZNAME:EDT
DTSTART:20220313T070000
END:DAYLIGHT
BEGIN:STANDARD
TZOFFSETFROM:-0400
TZOFFSETTO:-0500
TZNAME:EST
DTSTART:20221106T060000
END:STANDARD
BEGIN:DAYLIGHT
TZOFFSETFROM:-0500
TZOFFSETTO:-0400
TZNAME:EDT
DTSTART:20230312T070000
END:DAYLIGHT
BEGIN:STANDARD
TZOFFSETFROM:-0400
TZOFFSETTO:-0500
TZNAME:EST
DTSTART:20231105T060000
END:STANDARD
BEGIN:DAYLIGHT
TZOFFSETFROM:-0500
TZOFFSETTO:-0400
TZNAME:EDT
DTSTART:20240310T070000
END:DAYLIGHT
BEGIN:STANDARD
TZOFFSETFROM:-0400
TZOFFSETTO:-0500
TZNAME:EST
DTSTART:20241103T060000
END:STANDARD
END:VTIMEZONE
BEGIN:VEVENT
DTSTART;TZID=America/New_York:20231014T080000
DTEND;TZID=America/New_York:20231014T100000
DTSTAMP:20260420T061618
CREATED:20231009T145709Z
LAST-MODIFIED:20231009T150101Z
UID:5311-1697270400-1697277600@riverside-landing.org
SUMMARY:Mayor's Southwest Fun Run
DESCRIPTION:Mayor Craig Greenberg invites you to come out for the first Mayor’s Southwest Fun Run on Saturday\, October 14! Race time begins at 8 am. Run or walk the 5K course through the scenic setting of Riverside\, the Farnsley-Moremen Landing. Registration is $25/person. All net proceeds support Riverside. For more details and to register\, scan the QR code on the flyer or go to: https://louisvilleky.gov/government/city-events/mayors-southwest-louisville-fun-run \nSee you there!
URL:https://riverside-landing.org/event/mayors-southwest-fun-run/
LOCATION:Riverside\, the Farnsley-Moremen Landing\, 7410 Moorman Road\, Louisville\, KY\, 40272\, United States
CATEGORIES:Community Event,Outdoors,Running,Walking
END:VEVENT
END:VCALENDAR