BEGIN:VCALENDAR
VERSION:2.0
PRODID:-//Riverside, the Farnsley-Moremen Landing - ECPv6.15.20//NONSGML v1.0//EN
CALSCALE:GREGORIAN
METHOD:PUBLISH
X-ORIGINAL-URL:https://riverside-landing.org
X-WR-CALDESC:Events for Riverside, the Farnsley-Moremen Landing
REFRESH-INTERVAL;VALUE=DURATION:PT1H
X-Robots-Tag:noindex
X-PUBLISHED-TTL:PT1H
BEGIN:VTIMEZONE
TZID:America/New_York
BEGIN:DAYLIGHT
TZOFFSETFROM:-0500
TZOFFSETTO:-0400
TZNAME:EDT
DTSTART:20230312T070000
END:DAYLIGHT
BEGIN:STANDARD
TZOFFSETFROM:-0400
TZOFFSETTO:-0500
TZNAME:EST
DTSTART:20231105T060000
END:STANDARD
BEGIN:DAYLIGHT
TZOFFSETFROM:-0500
TZOFFSETTO:-0400
TZNAME:EDT
DTSTART:20240310T070000
END:DAYLIGHT
BEGIN:STANDARD
TZOFFSETFROM:-0400
TZOFFSETTO:-0500
TZNAME:EST
DTSTART:20241103T060000
END:STANDARD
BEGIN:DAYLIGHT
TZOFFSETFROM:-0500
TZOFFSETTO:-0400
TZNAME:EDT
DTSTART:20250309T070000
END:DAYLIGHT
BEGIN:STANDARD
TZOFFSETFROM:-0400
TZOFFSETTO:-0500
TZNAME:EST
DTSTART:20251102T060000
END:STANDARD
END:VTIMEZONE
BEGIN:VEVENT
DTSTART;TZID=America/New_York:20241019T100000
DTEND;TZID=America/New_York:20241019T150000
DTSTAMP:20260422T220827
CREATED:20240904T170253Z
LAST-MODIFIED:20240904T170253Z
UID:5554-1729332000-1729350000@riverside-landing.org
SUMMARY:Archaeology Day
DESCRIPTION:Don’t miss this opportunity to learn about archaeology in action at Riverside! Learn about the process of archaeology–and what we have learned through the research done at Riverside over the years. Family friendly activities include: hands-on activities\, demonstrations\, behind-the-scenes walking tours\, talks\, and more! Food vending by: Valley Dairy Freeze. Watch this space for the schedule and more details! Info: 502.935.6809.
URL:https://riverside-landing.org/event/archaeology-day/
LOCATION:Riverside\, the Farnsley-Moremen Landing\, 7410 Moorman Road\, Louisville\, KY\, 40272\, United States
CATEGORIES:Archaeology,Community Event,History,Kid Friendly
END:VEVENT
END:VCALENDAR