BEGIN:VCALENDAR
VERSION:2.0
PRODID:-//Riverside, the Farnsley-Moremen Landing - ECPv6.15.20//NONSGML v1.0//EN
CALSCALE:GREGORIAN
METHOD:PUBLISH
X-WR-CALNAME:Riverside, the Farnsley-Moremen Landing
X-ORIGINAL-URL:https://riverside-landing.org
X-WR-CALDESC:Events for Riverside, the Farnsley-Moremen Landing
REFRESH-INTERVAL;VALUE=DURATION:PT1H
X-Robots-Tag:noindex
X-PUBLISHED-TTL:PT1H
BEGIN:VTIMEZONE
TZID:America/Kentucky/Louisville
BEGIN:DAYLIGHT
TZOFFSETFROM:-0500
TZOFFSETTO:-0400
TZNAME:EDT
DTSTART:20240310T070000
END:DAYLIGHT
BEGIN:STANDARD
TZOFFSETFROM:-0400
TZOFFSETTO:-0500
TZNAME:EST
DTSTART:20241103T060000
END:STANDARD
BEGIN:DAYLIGHT
TZOFFSETFROM:-0500
TZOFFSETTO:-0400
TZNAME:EDT
DTSTART:20250309T070000
END:DAYLIGHT
BEGIN:STANDARD
TZOFFSETFROM:-0400
TZOFFSETTO:-0500
TZNAME:EST
DTSTART:20251102T060000
END:STANDARD
BEGIN:DAYLIGHT
TZOFFSETFROM:-0500
TZOFFSETTO:-0400
TZNAME:EDT
DTSTART:20260308T070000
END:DAYLIGHT
BEGIN:STANDARD
TZOFFSETFROM:-0400
TZOFFSETTO:-0500
TZNAME:EST
DTSTART:20261101T060000
END:STANDARD
END:VTIMEZONE
BEGIN:VEVENT
DTSTART;TZID=America/Kentucky/Louisville:20251214T133000
DTEND;TZID=America/Kentucky/Louisville:20251214T150000
DTSTAMP:20260421T120448
CREATED:20251107T200447Z
LAST-MODIFIED:20251107T200447Z
UID:5984-1765719000-1765724400@riverside-landing.org
SUMMARY:Sweet Sounds on Sunday: Amber Martin Holiday Show
DESCRIPTION:Get into the holiday spirit! Join us for the sweet sounds of Amber Martin performing seasonal music with a twist of fun in the intimate setting of Riverside’s historic chapel! Get your ticket for Sunday\, December 14\, 2025 @ 1:30 PM. Tickets: $10/person. Space is limited. We look forward to seeing you there! \n 
URL:https://riverside-landing.org/event/sweet-sounds-on-sunday-amber-martin-holiday-show/
LOCATION:Riverside\, the Farnsley-Moremen Landing\, 7410 Moorman Road\, Louisville\, KY\, 40272\, United States
CATEGORIES:Holidays,musical performance
END:VEVENT
END:VCALENDAR