BEGIN:VCALENDAR
VERSION:2.0
PRODID:-//Riverside, the Farnsley-Moremen Landing - ECPv6.15.20//NONSGML v1.0//EN
CALSCALE:GREGORIAN
METHOD:PUBLISH
X-WR-CALNAME:Riverside, the Farnsley-Moremen Landing
X-ORIGINAL-URL:https://riverside-landing.org
X-WR-CALDESC:Events for Riverside, the Farnsley-Moremen Landing
REFRESH-INTERVAL;VALUE=DURATION:PT1H
X-Robots-Tag:noindex
X-PUBLISHED-TTL:PT1H
BEGIN:VTIMEZONE
TZID:America/New_York
BEGIN:DAYLIGHT
TZOFFSETFROM:-0500
TZOFFSETTO:-0400
TZNAME:EDT
DTSTART:20230312T070000
END:DAYLIGHT
BEGIN:STANDARD
TZOFFSETFROM:-0400
TZOFFSETTO:-0500
TZNAME:EST
DTSTART:20231105T060000
END:STANDARD
BEGIN:DAYLIGHT
TZOFFSETFROM:-0500
TZOFFSETTO:-0400
TZNAME:EDT
DTSTART:20240310T070000
END:DAYLIGHT
BEGIN:STANDARD
TZOFFSETFROM:-0400
TZOFFSETTO:-0500
TZNAME:EST
DTSTART:20241103T060000
END:STANDARD
BEGIN:DAYLIGHT
TZOFFSETFROM:-0500
TZOFFSETTO:-0400
TZNAME:EDT
DTSTART:20250309T070000
END:DAYLIGHT
BEGIN:STANDARD
TZOFFSETFROM:-0400
TZOFFSETTO:-0500
TZNAME:EST
DTSTART:20251102T060000
END:STANDARD
END:VTIMEZONE
BEGIN:VEVENT
DTSTART;TZID=America/New_York:20240602T133000
DTEND;TZID=America/New_York:20240602T150000
DTSTAMP:20260425T084914
CREATED:20240502T180159Z
LAST-MODIFIED:20240502T180159Z
UID:5423-1717335000-1717340400@riverside-landing.org
SUMMARY:Sweet Sounds on Sunday: Jerry Tolson Jazz Trio
DESCRIPTION:We kick off our series of musical performances in the historic chapel this year with the Jerry Tolson Jazz Trio! Nobody does Jazz like Jerry Tolson. This combo will have toes tapping and the audience grooving to the sounds of the Jazz greats. Music sounds wonderful in the intimate setting of the historic chapel. Seating is limited so reservations are required. Suggested donation of $10/person. Reserve your space on EventBrite here: https://www.eventbrite.com/e/sweet-sounds-on-sunday-jerry-tolson-jazz-trio-tickets-896567877657?aff=oddtdtcreator \n 
URL:https://riverside-landing.org/event/sweet-sounds-on-sunday-jerry-tolson-jazz-trio/
LOCATION:Riverside\, the Farnsley-Moremen Landing\, 7410 Moorman Road\, Louisville\, KY\, 40272\, United States
CATEGORIES:Community Event,musical performance
END:VEVENT
BEGIN:VEVENT
DTSTART;TZID=America/New_York:20240609T100000
DTEND;TZID=America/New_York:20240609T130000
DTSTAMP:20260425T084914
CREATED:20240503T151012Z
LAST-MODIFIED:20240503T173124Z
UID:5441-1717927200-1717938000@riverside-landing.org
SUMMARY:Riverside Farmers' Market
DESCRIPTION:Join us for our weekly Riverside Farmers’ Market for fresh produce\, garden plants\, microgreens\, local eggs\, pork and honey as well as homemade salsas\, preserves\, candies\, soaps\, candles and locally-made crafts. Support local farmers and business people and enjoy healthy foods! This week you can enjoy the bluegrass sounds of Hog Operation when you come out to shop!
URL:https://riverside-landing.org/event/riverside-farmers-market-29/
LOCATION:Riverside\, the Farnsley-Moremen Landing\, 7410 Moorman Road\, Louisville\, KY\, 40272\, United States
CATEGORIES:Community Event,Farmers Market
END:VEVENT
BEGIN:VEVENT
DTSTART;TZID=America/New_York:20240616T100000
DTEND;TZID=America/New_York:20240616T130000
DTSTAMP:20260425T084914
CREATED:20240503T162113Z
LAST-MODIFIED:20240503T172316Z
UID:5444-1718532000-1718542800@riverside-landing.org
SUMMARY:Riverside Farmers' Market
DESCRIPTION:  \n \n \nJoin us for our weekly Riverside Farmers’ Market! Shop for fresh produce\, microgreens\, garden plants\, local honey\, eggs\, and pork as well as homemade spice mixes\, salsas\, preserves\, soaps\, candles\, and locally-made crafts. Special Father’s Day drawing happening at our Information Booth! Tunes by Trent! See you there!
URL:https://riverside-landing.org/event/riverside-farmers-market-30/
LOCATION:Riverside\, the Farnsley-Moremen Landing\, 7410 Moorman Road\, Louisville\, KY\, 40272\, United States
CATEGORIES:Community Event,Farmers Market
END:VEVENT
BEGIN:VEVENT
DTSTART;TZID=America/New_York:20240623T100000
DTEND;TZID=America/New_York:20240623T130000
DTSTAMP:20260425T084914
CREATED:20240503T172133Z
LAST-MODIFIED:20240524T190611Z
UID:5450-1719136800-1719147600@riverside-landing.org
SUMMARY:Riverside Farmers' Market
DESCRIPTION:Join us for our weekly Riverside Farmers’ Market to shop for fresh produce\, eggs\, honey\, garden plants\, microgreens as well as homemade salsas\, preserves\, candies\, soaps\, candles and locally-made crafts as well as some guitar playing and singing by Floyd Cline!
URL:https://riverside-landing.org/event/riverside-farmers-market-31/
LOCATION:Riverside\, the Farnsley-Moremen Landing\, 7410 Moorman Road\, Louisville\, KY\, 40272\, United States
CATEGORIES:Community Event,Farmers Market
END:VEVENT
END:VCALENDAR