BEGIN:VCALENDAR
VERSION:2.0
PRODID:-//Riverside, the Farnsley-Moremen Landing - ECPv6.15.20//NONSGML v1.0//EN
CALSCALE:GREGORIAN
METHOD:PUBLISH
X-ORIGINAL-URL:https://riverside-landing.org
X-WR-CALDESC:Events for Riverside, the Farnsley-Moremen Landing
REFRESH-INTERVAL;VALUE=DURATION:PT1H
X-Robots-Tag:noindex
X-PUBLISHED-TTL:PT1H
BEGIN:VTIMEZONE
TZID:America/New_York
BEGIN:DAYLIGHT
TZOFFSETFROM:-0500
TZOFFSETTO:-0400
TZNAME:EDT
DTSTART:20240310T070000
END:DAYLIGHT
BEGIN:STANDARD
TZOFFSETFROM:-0400
TZOFFSETTO:-0500
TZNAME:EST
DTSTART:20241103T060000
END:STANDARD
BEGIN:DAYLIGHT
TZOFFSETFROM:-0500
TZOFFSETTO:-0400
TZNAME:EDT
DTSTART:20250309T070000
END:DAYLIGHT
BEGIN:STANDARD
TZOFFSETFROM:-0400
TZOFFSETTO:-0500
TZNAME:EST
DTSTART:20251102T060000
END:STANDARD
BEGIN:DAYLIGHT
TZOFFSETFROM:-0500
TZOFFSETTO:-0400
TZNAME:EDT
DTSTART:20260308T070000
END:DAYLIGHT
BEGIN:STANDARD
TZOFFSETFROM:-0400
TZOFFSETTO:-0500
TZNAME:EST
DTSTART:20261101T060000
END:STANDARD
END:VTIMEZONE
BEGIN:VEVENT
DTSTART;TZID=America/New_York:20250601T100000
DTEND;TZID=America/New_York:20250601T130000
DTSTAMP:20260420T082115
CREATED:20250402T175253Z
LAST-MODIFIED:20250501T134118Z
UID:5651-1748772000-1748782800@riverside-landing.org
SUMMARY:Kick Off of Riverside Weekly Farmers' Market
DESCRIPTION:Don’t miss the kick off of Riverside’s Summer Farmers’ Market! The weekly market features fresh vegetables\, locally-raised chicken and pork\, local honey\, eggs\, preserves\, baked goods\, spice mixes\, hand-made soaps\, local crafts and more! Visit us on Sundays from June 1 through September 28 from 10 am to 1 pm.
URL:https://riverside-landing.org/event/kick-off-of-riverside-weekly-farmers-market/
LOCATION:Riverside\, the Farnsley-Moremen Landing\, 7410 Moorman Road\, Louisville\, KY\, 40272\, United States
CATEGORIES:Community Event,Farmers Market
END:VEVENT
END:VCALENDAR